BEGIN:VCALENDAR
VERSION:2.0
PRODID:-//Archbold Area Chamber of Commerce - ECPv6.15.20//NONSGML v1.0//EN
CALSCALE:GREGORIAN
METHOD:PUBLISH
X-WR-CALNAME:Archbold Area Chamber of Commerce
X-ORIGINAL-URL:https://archboldchamber.com
X-WR-CALDESC:Events for Archbold Area Chamber of Commerce
REFRESH-INTERVAL;VALUE=DURATION:PT1H
X-Robots-Tag:noindex
X-PUBLISHED-TTL:PT1H
BEGIN:VTIMEZONE
TZID:Asia/Karachi
BEGIN:STANDARD
TZOFFSETFROM:+0500
TZOFFSETTO:+0500
TZNAME:PKT
DTSTART:20250101T000000
END:STANDARD
END:VTIMEZONE
BEGIN:VEVENT
DTSTART;TZID=Asia/Karachi:20260207T120000
DTEND;TZID=Asia/Karachi:20260207T150000
DTSTAMP:20260421T231400
CREATED:20260202T212849Z
LAST-MODIFIED:20260202T212849Z
UID:3208-1770465600-1770476400@archboldchamber.com
SUMMARY:Astral Coffee Lounge Valentines Day Party
DESCRIPTION:
URL:https://archboldchamber.com/event/astral-coffee-lounge-valentines-day-party/
END:VEVENT
BEGIN:VEVENT
DTSTART;TZID=Asia/Karachi:20260212T160000
DTEND;TZID=Asia/Karachi:20260212T210000
DTSTAMP:20260421T231400
CREATED:20260127T015242Z
LAST-MODIFIED:20260127T015242Z
UID:3198-1770912000-1770930000@archboldchamber.com
SUMMARY:Valentine's Day Rare Bourbon Tasting
DESCRIPTION:
URL:https://archboldchamber.com/event/valentines-day-rare-bourbon-tasting/
LOCATION:Wild Side Brewing Company\, 24194 Front Street\, Grand Rapids\, OH\, United States
END:VEVENT
BEGIN:VEVENT
DTSTART;TZID=Asia/Karachi:20260224T120000
DTEND;TZID=Asia/Karachi:20260224T170000
DTSTAMP:20260421T231400
CREATED:20260202T213042Z
LAST-MODIFIED:20260202T213042Z
UID:3210-1771934400-1771952400@archboldchamber.com
SUMMARY:AI Training for Small Businesses webinar
DESCRIPTION:
URL:https://archboldchamber.com/event/https-fb-me-e-798poyk7y/
END:VEVENT
END:VCALENDAR