BEGIN:VCALENDAR
VERSION:2.0
PRODID:-//Archbold Area Chamber of Commerce - ECPv6.15.20//NONSGML v1.0//EN
CALSCALE:GREGORIAN
METHOD:PUBLISH
X-ORIGINAL-URL:https://archboldchamber.com
X-WR-CALDESC:Events for Archbold Area Chamber of Commerce
REFRESH-INTERVAL;VALUE=DURATION:PT1H
X-Robots-Tag:noindex
X-PUBLISHED-TTL:PT1H
BEGIN:VTIMEZONE
TZID:Asia/Karachi
BEGIN:STANDARD
TZOFFSETFROM:+0500
TZOFFSETTO:+0500
TZNAME:PKT
DTSTART:20240101T000000
END:STANDARD
END:VTIMEZONE
BEGIN:VEVENT
DTSTART;TZID=Asia/Karachi:20251108T080000
DTEND;TZID=Asia/Karachi:20251108T120000
DTSTAMP:20260422T041214
CREATED:20251021T205626Z
LAST-MODIFIED:20251021T205626Z
UID:3057-1762588800-1762603200@archboldchamber.com
SUMMARY:4K 4-H Camp Palmer
DESCRIPTION: 
URL:https://archboldchamber.com/event/4k-4-h-camp-palmer/
LOCATION:Camp Palmer\, 26450 Co MN\, Fayette\, OH\, 43521\, United States
END:VEVENT
BEGIN:VEVENT
DTSTART;TZID=Asia/Karachi:20251113T173000
DTEND;TZID=Asia/Karachi:20251113T193000
DTSTAMP:20260422T041214
CREATED:20251009T200826Z
LAST-MODIFIED:20251009T200826Z
UID:3015-1763055000-1763062200@archboldchamber.com
SUMMARY:Archbold Area Chamber of Commerce's Annual Banquet
DESCRIPTION:https://www.eventbrite.com/e/aacc-annual-banquet-tickets-1788643874979?aff=oddtdtcreator
URL:https://archboldchamber.com/event/archbold-area-chamber-of-commerces-annual-banquet/
END:VEVENT
BEGIN:VEVENT
DTSTART;TZID=Asia/Karachi:20251126T153000
DTEND;TZID=Asia/Karachi:20251126T200000
DTSTAMP:20260422T041214
CREATED:20251122T000938Z
LAST-MODIFIED:20251122T000938Z
UID:3120-1764171000-1764187200@archboldchamber.com
SUMMARY:Thanksgiving Buffet
DESCRIPTION:The Barn Restaurant is hosting its annual Thanksgiving buffet on Wednesday\, Nov. 26. Enjoy a feast fit for family and friends without the stress of preparing and hosting dinner. The buffet includes Thanksgiving classics like turkey\, ham\, dressing\, mashed potatoes\, fried chicken\, green bean casserole and pumpkin pie. Reservations are encouraged and can be made by calling the Barn at 419.445.2231.
URL:https://archboldchamber.com/event/thanksgiving-buffet/
END:VEVENT
BEGIN:VEVENT
DTSTART;TZID=Asia/Karachi:20251128T183000
DTEND;TZID=Asia/Karachi:20251128T210000
DTSTAMP:20260422T041214
CREATED:20251008T212621Z
LAST-MODIFIED:20251008T212621Z
UID:3006-1764354600-1764363600@archboldchamber.com
SUMMARY:Parade of Lights
DESCRIPTION:
URL:https://archboldchamber.com/event/parade-of-lights/
END:VEVENT
BEGIN:VEVENT
DTSTART;TZID=Asia/Karachi:20251129T180000
DTEND;TZID=Asia/Karachi:20251129T210000
DTSTAMP:20260422T041214
CREATED:20251122T001348Z
LAST-MODIFIED:20251122T001348Z
UID:3122-1764439200-1764450000@archboldchamber.com
SUMMARY:Merry & Bright
DESCRIPTION:Step into the festive season at Sauder Village during Merry & Bright. Guests are invited to wander along a 1920s Main Street adorned with sparkling lights\, stroll through historic buildings and cozy up in candlelit cabins. Ride the trolley or train\, make a holiday craft and watch for a special appearance from Santa. The Soda Fountain and Speakeasy will be open for those wanting an authentic treat or cocktail. Find one-of-a-kind\, locally made gifts at the Museum Store\, which will open for each Merry & Bright event. Pre-sale tickets are available at saudervillage.org. Admission is also available at the door.
URL:https://archboldchamber.com/event/merry-bright/
END:VEVENT
END:VCALENDAR