BEGIN:VCALENDAR
VERSION:2.0
PRODID:-//Archbold Area Chamber of Commerce - ECPv6.15.20//NONSGML v1.0//EN
CALSCALE:GREGORIAN
METHOD:PUBLISH
X-WR-CALNAME:Archbold Area Chamber of Commerce
X-ORIGINAL-URL:https://archboldchamber.com
X-WR-CALDESC:Events for Archbold Area Chamber of Commerce
REFRESH-INTERVAL;VALUE=DURATION:PT1H
X-Robots-Tag:noindex
X-PUBLISHED-TTL:PT1H
BEGIN:VTIMEZONE
TZID:Asia/Karachi
BEGIN:STANDARD
TZOFFSETFROM:+0500
TZOFFSETTO:+0500
TZNAME:PKT
DTSTART:20240101T000000
END:STANDARD
END:VTIMEZONE
BEGIN:VEVENT
DTSTART;TZID=Asia/Karachi:20251019T130000
DTEND;TZID=Asia/Karachi:20251019T160000
DTSTAMP:20260422T062609
CREATED:20251009T201619Z
LAST-MODIFIED:20251009T203514Z
UID:3021-1760878800-1760889600@archboldchamber.com
SUMMARY:Archbold Fall Festival and Pumpkin Path
DESCRIPTION:
URL:https://archboldchamber.com/event/archbold-fall-festival-and-pumpkin-path/
END:VEVENT
BEGIN:VEVENT
DTSTART;TZID=Asia/Karachi:20251012T110000
DTEND;TZID=Asia/Karachi:20251012T133000
DTSTAMP:20260422T062609
CREATED:20251009T201445Z
LAST-MODIFIED:20251009T201651Z
UID:3018-1760266800-1760275800@archboldchamber.com
SUMMARY:Shalom's Fall BBQ Fundraiser
DESCRIPTION:
URL:https://archboldchamber.com/event/shaloms-fall-bbq-fundraiser/
END:VEVENT
END:VCALENDAR