BEGIN:VCALENDAR
VERSION:2.0
PRODID:-//Archbold Area Chamber of Commerce - ECPv6.15.20//NONSGML v1.0//EN
CALSCALE:GREGORIAN
METHOD:PUBLISH
X-WR-CALNAME:Archbold Area Chamber of Commerce
X-ORIGINAL-URL:https://archboldchamber.com
X-WR-CALDESC:Events for Archbold Area Chamber of Commerce
REFRESH-INTERVAL;VALUE=DURATION:PT1H
X-Robots-Tag:noindex
X-PUBLISHED-TTL:PT1H
BEGIN:VTIMEZONE
TZID:Asia/Karachi
BEGIN:STANDARD
TZOFFSETFROM:+0500
TZOFFSETTO:+0500
TZNAME:PKT
DTSTART:20250101T000000
END:STANDARD
END:VTIMEZONE
BEGIN:VEVENT
DTSTART;TZID=Asia/Karachi:20260520T170000
DTEND;TZID=Asia/Karachi:20260520T190000
DTSTAMP:20260422T073344
CREATED:20260224T014918Z
LAST-MODIFIED:20260224T014918Z
UID:3243-1779296400-1779303600@archboldchamber.com
SUMMARY:Chamber Wine Trail
DESCRIPTION:
URL:https://archboldchamber.com/event/chamber-wine-trail/
LOCATION:Knotty Vines Winery\, 2920 Co Rd 19\, Wauseon\, OH\, 43567\, United States
END:VEVENT
BEGIN:VEVENT
DTSTART;TZID=Asia/Karachi:20260531T170000
DTEND;TZID=Asia/Karachi:20260531T190000
DTSTAMP:20260422T073344
CREATED:20260420T211106Z
LAST-MODIFIED:20260420T211106Z
UID:3299-1780246800-1780254000@archboldchamber.com
SUMMARY:3rd Annual Community Wide Blossom Bash
DESCRIPTION:
URL:https://archboldchamber.com/event/3rd-annual-community-wide-blossom-bash/
END:VEVENT
END:VCALENDAR