BEGIN:VCALENDAR
VERSION:2.0
PRODID:-//Archbold Area Chamber of Commerce - ECPv6.15.20//NONSGML v1.0//EN
CALSCALE:GREGORIAN
METHOD:PUBLISH
X-WR-CALNAME:Archbold Area Chamber of Commerce
X-ORIGINAL-URL:https://archboldchamber.com
X-WR-CALDESC:Events for Archbold Area Chamber of Commerce
REFRESH-INTERVAL;VALUE=DURATION:PT1H
X-Robots-Tag:noindex
X-PUBLISHED-TTL:PT1H
BEGIN:VTIMEZONE
TZID:Asia/Karachi
BEGIN:STANDARD
TZOFFSETFROM:+0500
TZOFFSETTO:+0500
TZNAME:PKT
DTSTART:20250101T000000
END:STANDARD
END:VTIMEZONE
BEGIN:VEVENT
DTSTART;TZID=Asia/Karachi:20260422T080000
DTEND;TZID=Asia/Karachi:20260422T170000
DTSTAMP:20260421T210335
CREATED:20260224T014250Z
LAST-MODIFIED:20260224T014250Z
UID:3234-1776844800-1776877200@archboldchamber.com
SUMMARY:Social Media Tips for Businesses
DESCRIPTION:Time and Destination TBD
URL:https://archboldchamber.com/event/social-media-tips-for-businesses/
END:VEVENT
END:VCALENDAR