BEGIN:VCALENDAR
VERSION:2.0
PRODID:-//Archbold Area Chamber of Commerce - ECPv6.15.20//NONSGML v1.0//EN
CALSCALE:GREGORIAN
METHOD:PUBLISH
X-WR-CALNAME:Archbold Area Chamber of Commerce
X-ORIGINAL-URL:https://archboldchamber.com
X-WR-CALDESC:Events for Archbold Area Chamber of Commerce
REFRESH-INTERVAL;VALUE=DURATION:PT1H
X-Robots-Tag:noindex
X-PUBLISHED-TTL:PT1H
BEGIN:VTIMEZONE
TZID:Asia/Karachi
BEGIN:STANDARD
TZOFFSETFROM:+0500
TZOFFSETTO:+0500
TZNAME:PKT
DTSTART:20240101T000000
END:STANDARD
END:VTIMEZONE
BEGIN:VEVENT
DTSTART;TZID=Asia/Karachi:20251224T100000
DTEND;TZID=Asia/Karachi:20251224T130000
DTSTAMP:20260422T041129
CREATED:20251122T001945Z
LAST-MODIFIED:20251122T001945Z
UID:3130-1766570400-1766581200@archboldchamber.com
SUMMARY:Christmas Eve Brunch
DESCRIPTION:Gather around the Barn Restaurant’s table for a festive Christmas Eve Brunch featuring fresh\, made-to-order omelets and holiday favorites. The restaurant will open for special hours from 10 a.m. to 1 p.m.\, perfect for a cozy start to holiday celebrations. Guests that wear an ugly Christmas sweater will receive a 10% discount. Reservations are encouraged and can be made by calling the Barn at 419.445.2231.
URL:https://archboldchamber.com/event/christmas-eve-brunch/
END:VEVENT
END:VCALENDAR