BEGIN:VCALENDAR
VERSION:2.0
PRODID:-//Archbold Area Chamber of Commerce - ECPv6.15.20//NONSGML v1.0//EN
CALSCALE:GREGORIAN
METHOD:PUBLISH
X-ORIGINAL-URL:https://archboldchamber.com
X-WR-CALDESC:Events for Archbold Area Chamber of Commerce
REFRESH-INTERVAL;VALUE=DURATION:PT1H
X-Robots-Tag:noindex
X-PUBLISHED-TTL:PT1H
BEGIN:VTIMEZONE
TZID:Asia/Karachi
BEGIN:STANDARD
TZOFFSETFROM:+0500
TZOFFSETTO:+0500
TZNAME:PKT
DTSTART:20240101T000000
END:STANDARD
END:VTIMEZONE
BEGIN:VEVENT
DTSTART;TZID=Asia/Karachi:20251126T153000
DTEND;TZID=Asia/Karachi:20251126T200000
DTSTAMP:20260422T055121
CREATED:20251122T000938Z
LAST-MODIFIED:20251122T000938Z
UID:3120-1764171000-1764187200@archboldchamber.com
SUMMARY:Thanksgiving Buffet
DESCRIPTION:The Barn Restaurant is hosting its annual Thanksgiving buffet on Wednesday\, Nov. 26. Enjoy a feast fit for family and friends without the stress of preparing and hosting dinner. The buffet includes Thanksgiving classics like turkey\, ham\, dressing\, mashed potatoes\, fried chicken\, green bean casserole and pumpkin pie. Reservations are encouraged and can be made by calling the Barn at 419.445.2231.
URL:https://archboldchamber.com/event/thanksgiving-buffet/
END:VEVENT
END:VCALENDAR